BEGIN:VCALENDAR
VERSION:2.0
PRODID:-//North Fitzroy Co-op - ECPv4.6.20.1//NONSGML v1.0//EN
CALSCALE:GREGORIAN
METHOD:PUBLISH
X-WR-CALNAME:North Fitzroy Co-op
X-ORIGINAL-URL:http://www.northfitzroycoop.org.au
X-WR-CALDESC:Events for North Fitzroy Co-op
BEGIN:VEVENT
DTSTART;VALUE=DATE:20180221
DTEND;VALUE=DATE:20180222
DTSTAMP:20260421T140309
CREATED:20171218T063527Z
LAST-MODIFIED:20171218T063527Z
UID:2521-1519171200-1519257599@www.northfitzroycoop.org.au
SUMMARY:Welcome BBQ
DESCRIPTION:
URL:http://www.northfitzroycoop.org.au/event/welcome-bbq/
END:VEVENT
END:VCALENDAR