BEGIN:VCALENDAR
VERSION:2.0
PRODID:-//North Fitzroy Co-op - ECPv4.6.20.1//NONSGML v1.0//EN
CALSCALE:GREGORIAN
METHOD:PUBLISH
X-WR-CALNAME:North Fitzroy Co-op
X-ORIGINAL-URL:http://www.northfitzroycoop.org.au
X-WR-CALDESC:Events for North Fitzroy Co-op
BEGIN:VEVENT
DTSTART;TZID=UTC+0:20180807T090000
DTEND;TZID=UTC+0:20180807T123000
DTSTAMP:20260421T105355
CREATED:20180716T030043Z
LAST-MODIFIED:20180716T030043Z
UID:2564-1533632400-1533645000@www.northfitzroycoop.org.au
SUMMARY:Nature Play
DESCRIPTION:
URL:http://www.northfitzroycoop.org.au/event/nature-play-3/
END:VEVENT
END:VCALENDAR