BEGIN:VCALENDAR
VERSION:2.0
PRODID:-//North Fitzroy Co-op - ECPv4.6.20.1//NONSGML v1.0//EN
CALSCALE:GREGORIAN
METHOD:PUBLISH
X-WR-CALNAME:North Fitzroy Co-op
X-ORIGINAL-URL:http://www.northfitzroycoop.org.au
X-WR-CALDESC:Events for North Fitzroy Co-op
BEGIN:VEVENT
DTSTART;VALUE=DATE:20180312
DTEND;VALUE=DATE:20180313
DTSTAMP:20260421T124026
CREATED:20171218T063556Z
LAST-MODIFIED:20171218T063556Z
UID:2523-1520812800-1520899199@www.northfitzroycoop.org.au
SUMMARY:Labor Day – Co-op Closed
DESCRIPTION:
URL:http://www.northfitzroycoop.org.au/event/labor-day-co-op-closed/
END:VEVENT
END:VCALENDAR