BEGIN:VCALENDAR
VERSION:2.0
PRODID:-//North Fitzroy Co-op - ECPv4.6.20.1//NONSGML v1.0//EN
CALSCALE:GREGORIAN
METHOD:PUBLISH
X-WR-CALNAME:North Fitzroy Co-op
X-ORIGINAL-URL:http://www.northfitzroycoop.org.au
X-WR-CALDESC:Events for North Fitzroy Co-op
BEGIN:VEVENT
DTSTART;TZID=UTC+0:20181114T100000
DTEND;TZID=UTC+0:20181114T100000
DTSTAMP:20260422T175545
CREATED:20180716T032301Z
LAST-MODIFIED:20180716T032301Z
UID:2600-1542189600-1542189600@www.northfitzroycoop.org.au
SUMMARY:Krazy Koala Puppet Show incursion
DESCRIPTION:
URL:http://www.northfitzroycoop.org.au/event/krazy-koala-puppet-show-incursion/
END:VEVENT
END:VCALENDAR