BEGIN:VCALENDAR
VERSION:2.0
PRODID:-//North Fitzroy Co-op - ECPv4.6.20.1//NONSGML v1.0//EN
CALSCALE:GREGORIAN
METHOD:PUBLISH
X-WR-CALNAME:North Fitzroy Co-op
X-ORIGINAL-URL:http://www.northfitzroycoop.org.au
X-WR-CALDESC:Events for North Fitzroy Co-op
BEGIN:VEVENT
DTSTART;VALUE=DATE:20180402
DTEND;VALUE=DATE:20180403
DTSTAMP:20260421T105039
CREATED:20171218T063636Z
LAST-MODIFIED:20171218T063703Z
UID:2525-1522627200-1522713599@www.northfitzroycoop.org.au
SUMMARY:Easter Monday – Co-op closed
DESCRIPTION:
URL:http://www.northfitzroycoop.org.au/event/good-friday-co-op-closed/
END:VEVENT
END:VCALENDAR