BEGIN:VCALENDAR
VERSION:2.0
PRODID:-//North Fitzroy Co-op - ECPv4.6.20.1//NONSGML v1.0//EN
CALSCALE:GREGORIAN
METHOD:PUBLISH
X-WR-CALNAME:North Fitzroy Co-op
X-ORIGINAL-URL:http://www.northfitzroycoop.org.au
X-WR-CALDESC:Events for North Fitzroy Co-op
BEGIN:VEVENT
DTSTART;VALUE=DATE:20181106
DTEND;VALUE=DATE:20181107
DTSTAMP:20260422T162353
CREATED:20171218T063936Z
LAST-MODIFIED:20171218T063936Z
UID:2534-1541462400-1541548799@www.northfitzroycoop.org.au
SUMMARY:Cup day – Co-op closed
DESCRIPTION:
URL:http://www.northfitzroycoop.org.au/event/cup-day-co-op-closed/
END:VEVENT
END:VCALENDAR