BEGIN:VCALENDAR
VERSION:2.0
PRODID:-//North Fitzroy Co-op - ECPv4.6.20.1//NONSGML v1.0//EN
CALSCALE:GREGORIAN
METHOD:PUBLISH
X-WR-CALNAME:North Fitzroy Co-op
X-ORIGINAL-URL:http://www.northfitzroycoop.org.au
X-WR-CALDESC:Events for North Fitzroy Co-op
BEGIN:VEVENT
DTSTART;TZID=UTC+0:20181220T080000
DTEND;TZID=UTC+0:20181220T080000
DTSTAMP:20260423T022829
CREATED:20180716T032720Z
LAST-MODIFIED:20180716T032720Z
UID:2606-1545292800-1545292800@www.northfitzroycoop.org.au
SUMMARY:Co-op's last day for 2018
DESCRIPTION:
URL:http://www.northfitzroycoop.org.au/event/co-ops-last-day-2018/
END:VEVENT
END:VCALENDAR