BEGIN:VCALENDAR
VERSION:2.0
PRODID:-//North Fitzroy Co-op - ECPv4.6.20.1//NONSGML v1.0//EN
CALSCALE:GREGORIAN
METHOD:PUBLISH
X-WR-CALNAME:North Fitzroy Co-op
X-ORIGINAL-URL:http://www.northfitzroycoop.org.au
X-WR-CALDESC:Events for North Fitzroy Co-op
BEGIN:VEVENT
DTSTART;TZID=UTC+0:20190108T080000
DTEND;TZID=UTC+0:20190108T080000
DTSTAMP:20260423T041950
CREATED:20180716T032805Z
LAST-MODIFIED:20180716T032805Z
UID:2608-1546934400-1546934400@www.northfitzroycoop.org.au
SUMMARY:Co-op re-opens for 2019
DESCRIPTION:
URL:http://www.northfitzroycoop.org.au/event/co-op-re-opens-2019/
END:VEVENT
END:VCALENDAR