BEGIN:VCALENDAR
VERSION:2.0
PRODID:-//North Fitzroy Co-op - ECPv4.6.20.1//NONSGML v1.0//EN
CALSCALE:GREGORIAN
METHOD:PUBLISH
X-WR-CALNAME:North Fitzroy Co-op
X-ORIGINAL-URL:http://www.northfitzroycoop.org.au
X-WR-CALDESC:Events for North Fitzroy Co-op
BEGIN:VEVENT
DTSTART;VALUE=DATE:20180126
DTEND;VALUE=DATE:20180127
DTSTAMP:20260421T154443
CREATED:20171218T063444Z
LAST-MODIFIED:20171218T063444Z
UID:2519-1516924800-1517011199@www.northfitzroycoop.org.au
SUMMARY:Australia Day – Co-op closed
DESCRIPTION:
URL:http://www.northfitzroycoop.org.au/event/australia-day-co-op-closed/
END:VEVENT
END:VCALENDAR